BEGIN:VCALENDAR
VERSION:2.0
PRODID:-//Pacific Dunes - ECPv4.1.0.1//NONSGML v1.0//EN
CALSCALE:GREGORIAN
METHOD:PUBLISH
X-WR-CALNAME:Pacific Dunes
X-ORIGINAL-URL:https://www.pacificdunes.com.au
X-WR-CALDESC:Events for Pacific Dunes
BEGIN:VEVENT
DTSTART;TZID="UTC+0":20210203T080000
DTEND;TZID="UTC+0":20210203T170000
DTSTAMP:20210226T153418
CREATED:20170223T010836
LAST-MODIFIED:20170223T010836
UID:6124-1612339200-1612371600@www.pacificdunes.com.au
SUMMARY:Mens Comp
DESCRIPTION:
URL:https://www.pacificdunes.com.au/event/mens-comp/2021-02-03/
LOCATION:NSW\, Array
END:VEVENT
BEGIN:VEVENT
DTSTART;TZID="UTC+0":20210203T080000
DTEND;TZID="UTC+0":20210203T170000
DTSTAMP:20210226T153418
CREATED:20170223T022649
LAST-MODIFIED:20170223T022649
UID:6125-1612339200-1612371600@www.pacificdunes.com.au
SUMMARY:Individual Stableford
DESCRIPTION:
URL:https://www.pacificdunes.com.au/event/individual-stableford-2/2021-02-03/
LOCATION:NSW\, Array
END:VEVENT
BEGIN:VEVENT
DTSTART;TZID="UTC+0":20210205T080000
DTEND;TZID="UTC+0":20210205T170000
DTSTAMP:20210226T153418
CREATED:20170223T002957
LAST-MODIFIED:20170223T002957
UID:6129-1612512000-1612544400@www.pacificdunes.com.au
SUMMARY:9-Hole Stableford
DESCRIPTION:
URL:https://www.pacificdunes.com.au/event/9-hole-stableford/2021-02-05/
LOCATION:NSW\, Array
END:VEVENT
BEGIN:VEVENT
DTSTART;TZID="UTC+0":20210206T080000
DTEND;TZID="UTC+0":20210206T170000
DTSTAMP:20210226T153418
CREATED:20170223T004547
LAST-MODIFIED:20170223T004547
UID:6131-1612598400-1612630800@www.pacificdunes.com.au
SUMMARY:Stroke
DESCRIPTION:
URL:https://www.pacificdunes.com.au/event/stroke/2021-02-06/
LOCATION:NSW\, Array
END:VEVENT
BEGIN:VEVENT
DTSTART;TZID="UTC+0":20210206T080000
DTEND;TZID="UTC+0":20210206T170000
DTSTAMP:20210226T153418
CREATED:20170223T005453
LAST-MODIFIED:20170223T005453
UID:6132-1612598400-1612630800@www.pacificdunes.com.au
SUMMARY:Individual Stableford
DESCRIPTION:
URL:https://www.pacificdunes.com.au/event/individual-stableford/2021-02-06/
LOCATION:NSW\, Array
END:VEVENT
BEGIN:VEVENT
DTSTART;TZID="UTC+0":20210206T080000
DTEND;TZID="UTC+0":20210206T170000
DTSTAMP:20210226T153418
CREATED:20170223T022649
LAST-MODIFIED:20170223T022649
UID:6143-1612598400-1612630800@www.pacificdunes.com.au
SUMMARY:Individual Stableford
DESCRIPTION:
URL:https://www.pacificdunes.com.au/event/individual-stableford-2/2021-02-06/
LOCATION:NSW\, Array
END:VEVENT
BEGIN:VEVENT
DTSTART;TZID="UTC+0":20210207T080000
DTEND;TZID="UTC+0":20210207T170000
DTSTAMP:20210226T153418
CREATED:20170223T022649
LAST-MODIFIED:20170223T022649
UID:6142-1612684800-1612717200@www.pacificdunes.com.au
SUMMARY:Individual Stableford
DESCRIPTION:
URL:https://www.pacificdunes.com.au/event/individual-stableford-2/2021-02-07/
LOCATION:NSW\, Array
END:VEVENT
BEGIN:VEVENT
DTSTART;TZID="UTC+0":20210210T080000
DTEND;TZID="UTC+0":20210210T170000
DTSTAMP:20210226T153418
CREATED:20170223T010836
LAST-MODIFIED:20170223T010836
UID:6140-1612944000-1612976400@www.pacificdunes.com.au
SUMMARY:Mens Comp
DESCRIPTION:
URL:https://www.pacificdunes.com.au/event/mens-comp/2021-02-10/
LOCATION:NSW\, Array
END:VEVENT
BEGIN:VEVENT
DTSTART;TZID="UTC+0":20210210T080000
DTEND;TZID="UTC+0":20210210T170000
DTSTAMP:20210226T153418
CREATED:20170223T022649
LAST-MODIFIED:20170223T022649
UID:6141-1612944000-1612976400@www.pacificdunes.com.au
SUMMARY:Individual Stableford
DESCRIPTION:
URL:https://www.pacificdunes.com.au/event/individual-stableford-2/2021-02-10/
LOCATION:NSW\, Array
END:VEVENT
BEGIN:VEVENT
DTSTART;TZID="UTC+0":20210212T080000
DTEND;TZID="UTC+0":20210212T170000
DTSTAMP:20210226T153418
CREATED:20170223T003146
LAST-MODIFIED:20170223T003146
UID:6144-1613116800-1613149200@www.pacificdunes.com.au
SUMMARY:9-hole Wine Run
DESCRIPTION:
URL:https://www.pacificdunes.com.au/event/9-hole-wine-run/2021-02-12/
LOCATION:NSW\, Array
END:VEVENT
BEGIN:VEVENT
DTSTART;TZID="UTC+0":20210213T080000
DTEND;TZID="UTC+0":20210213T170000
DTSTAMP:20210226T153418
CREATED:20170223T005453
LAST-MODIFIED:20170223T005453
UID:6147-1613203200-1613235600@www.pacificdunes.com.au
SUMMARY:Individual Stableford
DESCRIPTION:
URL:https://www.pacificdunes.com.au/event/individual-stableford/2021-02-13/
LOCATION:NSW\, Array
END:VEVENT
BEGIN:VEVENT
DTSTART;TZID="UTC+0":20210213T080000
DTEND;TZID="UTC+0":20210213T170000
DTSTAMP:20210226T153418
CREATED:20170223T022649
LAST-MODIFIED:20170223T022649
UID:6154-1613203200-1613235600@www.pacificdunes.com.au
SUMMARY:Individual Stableford
DESCRIPTION:
URL:https://www.pacificdunes.com.au/event/individual-stableford-2/2021-02-13/
LOCATION:NSW\, Array
END:VEVENT
BEGIN:VEVENT
DTSTART;TZID="UTC+0":20210214T080000
DTEND;TZID="UTC+0":20210214T170000
DTSTAMP:20210226T153418
CREATED:20170223T022649
LAST-MODIFIED:20170223T022649
UID:6153-1613289600-1613322000@www.pacificdunes.com.au
SUMMARY:Individual Stableford
DESCRIPTION:
URL:https://www.pacificdunes.com.au/event/individual-stableford-2/2021-02-14/
LOCATION:NSW\, Array
END:VEVENT
BEGIN:VEVENT
DTSTART;TZID="UTC+0":20210217T080000
DTEND;TZID="UTC+0":20210217T170000
DTSTAMP:20210226T153418
CREATED:20170223T010836
LAST-MODIFIED:20170223T010836
UID:6151-1613548800-1613581200@www.pacificdunes.com.au
SUMMARY:Mens Comp
DESCRIPTION:
URL:https://www.pacificdunes.com.au/event/mens-comp/2021-02-17/
LOCATION:NSW\, Array
END:VEVENT
BEGIN:VEVENT
DTSTART;TZID="UTC+0":20210217T080000
DTEND;TZID="UTC+0":20210217T170000
DTSTAMP:20210226T153418
CREATED:20170223T022649
LAST-MODIFIED:20170223T022649
UID:6152-1613548800-1613581200@www.pacificdunes.com.au
SUMMARY:Individual Stableford
DESCRIPTION:
URL:https://www.pacificdunes.com.au/event/individual-stableford-2/2021-02-17/
LOCATION:NSW\, Array
END:VEVENT
BEGIN:VEVENT
DTSTART;TZID="UTC+0":20210220T080000
DTEND;TZID="UTC+0":20210220T170000
DTSTAMP:20210226T153418
CREATED:20170223T005453
LAST-MODIFIED:20170223T005453
UID:6193-1613808000-1613840400@www.pacificdunes.com.au
SUMMARY:Individual Stableford
DESCRIPTION:
URL:https://www.pacificdunes.com.au/event/individual-stableford/2021-02-20/
LOCATION:NSW\, Array
END:VEVENT
BEGIN:VEVENT
DTSTART;TZID="UTC+0":20210220T080000
DTEND;TZID="UTC+0":20210220T170000
DTSTAMP:20210226T153418
CREATED:20170223T022649
LAST-MODIFIED:20170223T022649
UID:6198-1613808000-1613840400@www.pacificdunes.com.au
SUMMARY:Individual Stableford
DESCRIPTION:
URL:https://www.pacificdunes.com.au/event/individual-stableford-2/2021-02-20/
LOCATION:NSW\, Array
END:VEVENT
BEGIN:VEVENT
DTSTART;TZID="UTC+0":20210221T080000
DTEND;TZID="UTC+0":20210221T170000
DTSTAMP:20210226T153418
CREATED:20170223T022649
LAST-MODIFIED:20170223T022649
UID:6197-1613894400-1613926800@www.pacificdunes.com.au
SUMMARY:Individual Stableford
DESCRIPTION:
URL:https://www.pacificdunes.com.au/event/individual-stableford-2/2021-02-21/
LOCATION:NSW\, Array
END:VEVENT
BEGIN:VEVENT
DTSTART;TZID="UTC+0":20210224T080000
DTEND;TZID="UTC+0":20210224T170000
DTSTAMP:20210226T153418
CREATED:20170223T010836
LAST-MODIFIED:20170223T010836
UID:6195-1614153600-1614186000@www.pacificdunes.com.au
SUMMARY:Mens Comp
DESCRIPTION:
URL:https://www.pacificdunes.com.au/event/mens-comp/2021-02-24/
LOCATION:NSW\, Array
END:VEVENT
BEGIN:VEVENT
DTSTART;TZID="UTC+0":20210224T080000
DTEND;TZID="UTC+0":20210224T170000
DTSTAMP:20210226T153418
CREATED:20170223T022649
LAST-MODIFIED:20170223T022649
UID:6196-1614153600-1614186000@www.pacificdunes.com.au
SUMMARY:Individual Stableford
DESCRIPTION:
URL:https://www.pacificdunes.com.au/event/individual-stableford-2/2021-02-24/
LOCATION:NSW\, Array
END:VEVENT
BEGIN:VEVENT
DTSTART;TZID="UTC+0":20210227T080000
DTEND;TZID="UTC+0":20210227T170000
DTSTAMP:20210226T153418
CREATED:20170223T005453
LAST-MODIFIED:20170223T005453
UID:6225-1614412800-1614445200@www.pacificdunes.com.au
SUMMARY:Individual Stableford
DESCRIPTION:
URL:https://www.pacificdunes.com.au/event/individual-stableford/2021-02-27/
LOCATION:NSW\, Array
END:VEVENT
BEGIN:VEVENT
DTSTART;TZID="UTC+0":20210227T080000
DTEND;TZID="UTC+0":20210227T170000
DTSTAMP:20210226T153418
CREATED:20170223T022649
LAST-MODIFIED:20170223T022649
UID:6239-1614412800-1614445200@www.pacificdunes.com.au
SUMMARY:Individual Stableford
DESCRIPTION:
URL:https://www.pacificdunes.com.au/event/individual-stableford-2/2021-02-27/
LOCATION:NSW\, Array
END:VEVENT
END:VCALENDAR